BEGIN:VCALENDAR
VERSION:2.0
PRODID:-//3Sixty//All-on-X Precision Webinar//EN
CALSCALE:GREGORIAN
METHOD:PUBLISH
BEGIN:VEVENT
UID:all-on-x-precision-webinar-2026@3sixtydental.com
DTSTAMP:20260101T000000Z
DTSTART:20260501T150000Z
DTEND:20260501T220000Z
SUMMARY:The All-on-X Precision Experience: Online Edition
DESCRIPTION:Live online CE course — Master the digital workflow for predictable full-arch results with photogrammetry. 6 CE Hours.
LOCATION:Online — Zoom Meeting
URL:https://3sixtydental.com/all-on-x-precision-webinar
STATUS:CONFIRMED
END:VEVENT
END:VCALENDAR